BEGIN:VCALENDAR
VERSION:2.0
PRODID:Events Booking
BEGIN:VEVENT
UID:69e8d66f6679d
SUMMARY:PRECIO LANZAMIENTO TALLER Y CONGRESO PUBLICO
DESCRIPTION:&nbsp\;
 &nbsp\;
 &nbsp\;
 
DTSTART:20220923T183000Z
DTEND:20220924T230000Z
DTSTAMP:20260422T140847Z
ORGANIZER;CN=PMI Antioquia Chapter:MAILTO:contacto@pmiantioquia.org
END:VEVENT
END:VCALENDAR