BEGIN:VCALENDAR
VERSION:2.0
PRODID:Events Booking
BEGIN:VEVENT
UID:69ec069a26cc7
SUMMARY:#EspacioDeConexion: Cultura para Entrega de Valor Remoto -Ulises Go
 nzález
DESCRIPTION:PMI Antioquia entrega a todos un&nbsp\;#EspacioDeConexion&nbsp\
 ;para todas las familias que quieran compartir estas 3 semanas\, PMI Antio
 quia Te Acompaña!
 Miércoles 25 Marzo #EspacioDeConexion: Cultura para 
 Entrega de Valor Remoto -Ulises González por zoom
 ? LINK:&nbsp\;https:/
 /zoom.us/j/617114266
DTSTART:20200326T000000Z
DTEND:20200326T013000Z
DTSTAMP:20260425T001106Z
ORGANIZER;CN=PMI Antioquia Chapter:MAILTO:contacto@pmiantioquia.org
END:VEVENT
END:VCALENDAR