BEGIN:VCALENDAR
VERSION:2.0
PRODID:Events Booking
BEGIN:VEVENT
UID:69ec069a74e59
SUMMARY:#EspacioDeConexion: Ejercítate CONEXIÓN CUERPO Y MENTE
DESCRIPTION:Conéctate esta semana: empezaremos por EJERCITARNOS martes y j
 ueves de 7 a 8 am.&nbsp\;
 PMI Antioquia entrega a todos un&nbsp\;#Espaci
 oDeConexion&nbsp\;para todas las familias que quieran compartir. SEMANA 2
 …PMI Antioquia Te Acompaña!
 Permítete ENCONTRARTE para que surjan de
  aquí tus mejores&nbsp\;#proyectos
DTSTART:20200331T120000Z
DTEND:20200331T130000Z
DTSTAMP:20260425T001106Z
ORGANIZER;CN=PMI Antioquia Chapter:MAILTO:contacto@pmiantioquia.org
END:VEVENT
END:VCALENDAR