BEGIN:VCALENDAR
VERSION:2.0
PRODID:Events Booking
BEGIN:VEVENT
UID:69ec05533d310
SUMMARY:#EspacioDeConexion: Marzo 25 6:30am YOGA
DESCRIPTION:PMI Antioquia entrega a todos un&nbsp\;#EspacioDeConexion&nbsp\
 ;para todas las familias que quieran compartir estas 3 semanas\, PMI Antio
 quia Te Acompaña!
DTSTART:20200325T113000Z
DTEND:20200325T123000Z
DTSTAMP:20260425T000539Z
ORGANIZER;CN=PMI Antioquia Chapter:MAILTO:contacto@pmiantioquia.org
END:VEVENT
END:VCALENDAR