BEGIN:VCALENDAR
VERSION:2.0
PRODID:Events Booking
BEGIN:VEVENT
UID:69ec09cf90356
SUMMARY:#EspacioDeConexion: Marzo 27 6:30am YOGA
DESCRIPTION:PMI Antioquia entrega a todos un&nbsp\;#EspacioDeConexion&nbsp\
 ;para todas las familias que quieran compartir estas 3 semanas\, PMI Antio
 quia Te Acompaña!
DTSTART:20200327T113000Z
DTEND:20200327T123000Z
DTSTAMP:20260425T002447Z
ORGANIZER;CN=PMI Antioquia Chapter:MAILTO:contacto@pmiantioquia.org
END:VEVENT
END:VCALENDAR