BEGIN:VCALENDAR
VERSION:2.0
PRODID:Events Booking
BEGIN:VEVENT
UID:69ebef1103528
SUMMARY:#EspacioDeConexion: Neuromanagement Aplicado a los Proyectos
DESCRIPTION:Conéctate en la semana 3 #EspacioDeConexión
 PMI Antioquia e
 ntrega a todos un&nbsp\;#EspacioDeConexion para todas las familias que qui
 eran compartir. SEMANA 3…PMI Antioquia Te Acompaña!
 Permítete ENCONT
 RARTE para que surjan de aquí tus mejores&nbsp\;#proyectos
DTSTART:20200406T230000Z
DTEND:20200407T010000Z
DTSTAMP:20260424T223041Z
ORGANIZER;CN=PMI Antioquia Chapter:MAILTO:contacto@pmiantioquia.org
END:VEVENT
END:VCALENDAR