BEGIN:VCALENDAR
VERSION:2.0
PRODID:Events Booking
BEGIN:VEVENT
UID:69ebd8450bb56
SUMMARY:FB Live: Entrenamiento Funcional y Stretching para Tensión y Estr
 és
DESCRIPTION:
 Entrenamiento Funcional y Stretching para Tensión y Estrés
  —&nbsp\;Yonatan Restrepo. Sábado 9 am. Facebook Live. 
 
 
 
 
 
 
 ✔️Activar el metabolismo 
 
 
 ✔️Mejorar la circulación y ox
 igenación 
 
 
 ✔️Liberar tensión y estrés 
 
 
 ✔️Mejora
 r la postura y el tono muscular 
 
 
 ✔️Mejorar la movilidad
 
DTSTART:20200516T140000Z
DTEND:20200516T150000Z
DTSTAMP:20260424T205325Z
ORGANIZER;CN=PMI Antioquia Chapter:MAILTO:contacto@pmiantioquia.org
END:VEVENT
END:VCALENDAR