BEGIN:VCALENDAR
VERSION:2.0
PRODID:Events Booking
BEGIN:VEVENT
UID:69e912f0481d5
SUMMARY:Fishbowl Infraestructura: Conoce tu comunidad
DESCRIPTION:
DTSTART:20220715T000000Z
DTEND:20220715T010000Z
DTSTAMP:20260422T182656Z
ORGANIZER;CN=PMI Antioquia Chapter:MAILTO:contacto@pmiantioquia.org
END:VEVENT
END:VCALENDAR