BEGIN:VCALENDAR
VERSION:2.0
PRODID:Events Booking
BEGIN:VEVENT
UID:69e590d731fd6
SUMMARY:Franklin Templeton USA y ICBC Canadá transformaron sus organizacio
 nes con Disciplined Agile. ¿Cómo lo hicieron?
DESCRIPTION:EL CAPITULO PMI ANTIOQUIA TE INVITA AL EVENTO
 &nbsp\;
 
DTSTART:20230301T233000Z
DTEND:20230302T003000Z
DTSTAMP:20260420T023503Z
ORGANIZER;CN=PMI Antioquia Chapter:MAILTO:contacto@pmiantioquia.org
END:VEVENT
END:VCALENDAR