BEGIN:VCALENDAR
VERSION:2.0
PRODID:Events Booking
BEGIN:VEVENT
UID:69e5917cd9970
SUMMARY:Gerencia\, proyectos y recursos humanos: the future of work
DESCRIPTION:&nbsp\;El Capítulo PMI®&nbsp\;Antioquia te invita
 Gerencia\
 , proyectos y recursos humanos: the future of work
 &nbsp\;
 
DTSTART:20230419T233000Z
DTEND:20230420T003000Z
DTSTAMP:20230325T002227Z
ORGANIZER;CN=PMI Antioquia Chapter:MAILTO:contacto@pmiantioquia.org
END:VEVENT
END:VCALENDAR