BEGIN:VCALENDAR
VERSION:2.0
PRODID:Events Booking
BEGIN:VEVENT
UID:69e92dbc05792
SUMMARY:Gerenciando Megaproyectos de Infraestructura
DESCRIPTION:
DTSTART:20220608T233000Z
DTEND:20220609T003000Z
DTSTAMP:20260422T202116Z
ORGANIZER;CN=PMI Antioquia Chapter:MAILTO:contacto@pmiantioquia.org
END:VEVENT
END:VCALENDAR