BEGIN:VCALENDAR
VERSION:2.0
PRODID:Events Booking
BEGIN:VEVENT
UID:69e94618aa7c3
SUMMARY:VOLVERNOS A ENCONTRAR | Gerenciando Megaproyectos de Infraestructur
 a
DESCRIPTION:
 Abriremos este encuentro presencial con la conferencia del I
 ngeniero Carlos Macías.
 Sobre la conferencia: En general los mepagroyec
 tos tienen los mismos elementos que tendría cualquier proyecto\, sin emba
 rgo\, por sus condiciones especiales se les debe mirar desde una perspecti
 va diferente\, entender que los puntos de énfasis y control cambian y req
 uieren además habilidades personales y grupales especificas. En la charla
  se expondrán algunos tips para atender estos aspectos desde la perspecti
 va de la Gerencia de megaproyectos\, basados en la experiencia en grandes 
 obras de infraestructura\, tales como \; Túnel del Toyo y sus vías de ac
 ceso\, Parques del Río Medellín\, Túnel de Oriente\, entre otros.
 &nb
 sp\;
 Sobre el evento: Participa y haz parte de este encuentro\, una opor
 tunidad para volver a conectarnos y compartir este espacio con un networki
 ng y agenda facilitada por PMI Antioquia para toda la comunidad de proyect
 os en Antioquia.
DTSTART:20220526T000000Z
DTSTAMP:20260422T220512Z
ORGANIZER;CN=PMI Antioquia Chapter:MAILTO:contacto@pmiantioquia.org
END:VEVENT
END:VCALENDAR