BEGIN:VCALENDAR
VERSION:2.0
PRODID:Events Booking
BEGIN:VEVENT
UID:69ead4334b33a
SUMMARY:Gestión de Portafolio de Proyectos
DESCRIPTION:
DTSTART:20210224T230000Z
DTEND:20210225T000000Z
DTSTAMP:20260424T022347Z
ORGANIZER;CN=PMI Antioquia Chapter:MAILTO:contacto@pmiantioquia.org
END:VEVENT
END:VCALENDAR