BEGIN:VCALENDAR
VERSION:2.0
PRODID:Events Booking
BEGIN:VEVENT
UID:69e94b6f80b83
SUMMARY:Grupo autoestudio examen PMP® - PMI® Antioquia
DESCRIPTION:
DTSTART:20220510T000000Z
DTEND:20220531T010000Z
DTSTAMP:20260422T222759Z
ORGANIZER;CN=PMI Antioquia Chapter:MAILTO:contacto@pmiantioquia.org
END:VEVENT
END:VCALENDAR