BEGIN:VCALENDAR
VERSION:2.0
PRODID:Events Booking
BEGIN:VEVENT
UID:69e945164d6c7
SUMMARY:Grupo autoestudio examen PMP® - PMI® LATAM
DESCRIPTION:
DTSTART:20220511T000000Z
DTEND:20220601T020000Z
DTSTAMP:20260422T220054Z
ORGANIZER;CN=PMI Antioquia Chapter:MAILTO:contacto@pmiantioquia.org
END:VEVENT
END:VCALENDAR