BEGIN:VCALENDAR
VERSION:2.0
PRODID:Events Booking
BEGIN:VEVENT
UID:69e916e92c7eb
SUMMARY:Grupo de Estudio PMP Latam - Explorando el PMBoK v7
DESCRIPTION:
DTSTART:20220713T000000Z
DTEND:20220713T010000Z
DTSTAMP:20260422T184353Z
ORGANIZER;CN=PMI Antioquia Chapter:MAILTO:contacto@pmiantioquia.org
END:VEVENT
END:VCALENDAR