BEGIN:VCALENDAR
VERSION:2.0
PRODID:Events Booking
BEGIN:VEVENT
UID:69ea711630663
SUMMARY:Habilidades del futuro y como obtenerlas
DESCRIPTION:&nbsp\;
 &nbsp\;&nbsp\;
 El Capítulo PMI Antioquia invita a 
 la comunidad a la conferencia \"Habilidades del futuro y como obtenerlas\"
 
 &nbsp\;
 Descripción conferencia:
 Tomar acciones hoy para resultado
 s dentro de 3 años es lo que separa a grandes empresas de las empresas de
  bajo crecimiento. Parte de estas decisiones estratégicas se concentran e
 n la contratación y en el establecimiento de una cultura de adaptación n
 o solo entre sus colaboradores sino a lo largo de toda la cadena de valor.
  Hay mecanismos para estar a la vanguardia con estos nuevos paradigmas y s
 er parte de la solución que buscan las organizaciones. En esta charla se 
 hablará de estas situaciones y como tomar acción de inmediato.
 &nbsp\;
 
 Objetivos de aprendizaje:
 1. Conocer las habilidades del futuro2. Ide
 ntificar un camino propio a seguir para poder desarrollar las habilidades3
 . Priorizar acciones que generen un gran impacto
 &nbsp\;
 Conferencista
 : 
 Cristian Soto
 &nbsp\;
 &nbsp\;
DTSTART:20210511T230000Z
DTEND:20210512T000000Z
DTSTAMP:20260423T192054Z
ORGANIZER;CN=PMI Antioquia Chapter:MAILTO:contacto@pmiantioquia.org
END:VEVENT
END:VCALENDAR