BEGIN:VCALENDAR
VERSION:2.0
PRODID:Events Booking
BEGIN:VEVENT
UID:69e972f4d7889
SUMMARY:Changemakers KIDS
DESCRIPTION:&nbsp\;
 Changemakers KIDS 
 &nbsp\;
DTSTART:20220317T190000Z
DTEND:20220319T170000Z
DTSTAMP:20260423T011636Z
ORGANIZER;CN=PMI Antioquia Chapter:MAILTO:contacto@pmiantioquia.org
END:VEVENT
END:VCALENDAR