BEGIN:VCALENDAR
VERSION:2.0
PRODID:Events Booking
BEGIN:VEVENT
UID:69e971c697654
SUMMARY:AGILE WAY OF WORKING: Hice mi casa con Scrum\, la agilidad de las o
 tras cosas
DESCRIPTION:&nbsp\;
 Los Capítulos: PMI Antioquia\,&nbsp\;PMI Pacífico C
 olombia\, PMI Puebla México\, PMI Bajío México y PMI República Dominic
 ana te invitan a este especial Webinar Técnico que otorga 1 PDU 
 &nbsp\
 ;
DTSTART:20220309T233000Z
DTEND:20220310T003000Z
DTSTAMP:20260423T011134Z
ORGANIZER;CN=PMI Antioquia Chapter:MAILTO:contacto@pmiantioquia.org
END:VEVENT
END:VCALENDAR