BEGIN:VCALENDAR
VERSION:2.0
PRODID:Events Booking
BEGIN:VEVENT
UID:69eb9e6777046
SUMMARY:Introducción a Business Agility
DESCRIPTION:-Carlos Prieto
 &nbsp\;
 Diferentes enfoques de AGILIDAD
DTSTART:20200729T230000Z
DTEND:20200730T000000Z
DTSTAMP:20260424T164631Z
ORGANIZER;CN=PMI Antioquia Chapter:MAILTO:contacto@pmiantioquia.org
END:VEVENT
END:VCALENDAR