BEGIN:VCALENDAR
VERSION:2.0
PRODID:Events Booking
BEGIN:VEVENT
UID:69e5913660a06
SUMMARY:Invitación - Asamblea General Ordinaria 2023
DESCRIPTION:EL CAPITULO PMI ANTIOQUIA TE INVITA&nbsp\;
 Asamblea General O
 rdinaria 2023
 
 &nbsp\;
DTSTART:20230315T233000Z
DTEND:20230216T010000Z
DTSTAMP:20260420T023638Z
ORGANIZER;CN=PMI Antioquia Chapter:MAILTO:contacto@pmiantioquia.org
END:VEVENT
END:VCALENDAR