BEGIN:VCALENDAR
VERSION:2.0
PRODID:Events Booking
BEGIN:VEVENT
UID:69e9b8c8f2fca
SUMMARY:Invitación  - Fiesta de cierre fin de año
DESCRIPTION:El capítulo PMI Antioquia se complace en invitarlo a la fiesta
  de fin de año
 
 
DTSTART:20211211T200000Z
DTEND:20211212T000000Z
DTSTAMP:20260423T061432Z
ORGANIZER;CN=PMI Antioquia Chapter:MAILTO:contacto@pmiantioquia.org
END:VEVENT
END:VCALENDAR