BEGIN:VCALENDAR
VERSION:2.0
PRODID:Events Booking
BEGIN:VEVENT
UID:69eabcf714ce2
SUMMARY:La agilidad disciplinada y su valor en las organizaciones
DESCRIPTION:
DTSTART:20210317T233000Z
DTEND:20210318T003000Z
DTSTAMP:20260424T004439Z
ORGANIZER;CN=PMI Antioquia Chapter:MAILTO:contacto@pmiantioquia.org
END:VEVENT
END:VCALENDAR