BEGIN:VCALENDAR
VERSION:2.0
PRODID:Events Booking
BEGIN:VEVENT
UID:69e92c07e4d2d
SUMMARY:La gestión de proyectos en el corazón de los ODS
DESCRIPTION:
DTSTART:20220601T233000Z
DTEND:20220602T003000Z
DTSTAMP:20260422T201359Z
ORGANIZER;CN=PMI Antioquia Chapter:MAILTO:contacto@pmiantioquia.org
END:VEVENT
END:VCALENDAR