BEGIN:VCALENDAR
VERSION:2.0
PRODID:Events Booking
BEGIN:VEVENT
UID:69eb3be58c71c
SUMMARY:La Nueva Ruta de la Agilidad del PMI
DESCRIPTION:No dejes de enterárte de temas de Disciplined Agile&nbsp\;
 &
 nbsp\;
 Un gran maestro en el tema!
DTSTART:20201014T230000Z
DTEND:20201015T000000Z
DTSTAMP:20260424T094613Z
ORGANIZER;CN=PMI Antioquia Chapter:MAILTO:contacto@pmiantioquia.org
END:VEVENT
END:VCALENDAR