BEGIN:VCALENDAR
VERSION:2.0
PRODID:Events Booking
BEGIN:VEVENT
UID:69e8a410d27d4
SUMMARY:Las certificaciones PMI. Un amplio ecosistema capaz de responder a 
 las necesidades de gestión de toda la organización
DESCRIPTION:
DTSTART:20221102T233000Z
DTEND:20221103T003000Z
DTSTAMP:20260422T103352Z
ORGANIZER;CN=PMI Antioquia Chapter:MAILTO:contacto@pmiantioquia.org
END:VEVENT
END:VCALENDAR