BEGIN:VCALENDAR
VERSION:2.0
PRODID:Events Booking
BEGIN:VEVENT
UID:69e5a8ff90183
SUMMARY:Las comunidades y la formulación participativa de proyectos
DESCRIPTION:&nbsp\;
 EL CAPITULO PMI ANTIOQUIA TE INVITA AL EVENTO
 Las c
 omunidades y la formulación participativa de proyectos
 
DTSTART:20230222T233000Z
DTEND:20230223T003000Z
DTSTAMP:20260420T041807Z
ORGANIZER;CN=PMI Antioquia Chapter:MAILTO:contacto@pmiantioquia.org
END:VEVENT
END:VCALENDAR