BEGIN:VCALENDAR
VERSION:2.0
PRODID:Events Booking
BEGIN:VEVENT
UID:69e9eabe7ae67
SUMMARY:SMART BUILDING: Visión y Estrategia desde Microsoft
DESCRIPTION:&nbsp\;SMART BUILDING: Visión y Estrategia desde Microsoft&nbs
 p\;&nbsp\;
 &nbsp\;
 &nbsp\;
DTSTART:20211013T230000Z
DTEND:20211014T000000Z
DTSTAMP:20260423T094742Z
ORGANIZER;CN=PMI Antioquia Chapter:MAILTO:contacto@pmiantioquia.org
END:VEVENT
END:VCALENDAR