BEGIN:VCALENDAR
VERSION:2.0
PRODID:Events Booking
BEGIN:VEVENT
UID:69e9eae6ed128
SUMMARY:Las deficiencias en la aplicación de las prácticas del PMI en la 
 Contratación y proyectos del sector público
DESCRIPTION:&nbsp\;El capítulo PMI Antioquia invita a la comunidad a la co
 nferencia \"Las deficiencias en la aplicación de las prácticas del PMI e
 n la Contratación y proyectos del sector público\"
 &nbsp\;
 &nbsp\;
DTSTART:20211014T230000Z
DTEND:20211015T000000Z
DTSTAMP:20260423T094822Z
ORGANIZER;CN=PMI Antioquia Chapter:MAILTO:contacto@pmiantioquia.org
END:VEVENT
END:VCALENDAR