BEGIN:VCALENDAR
VERSION:2.0
PRODID:Events Booking
BEGIN:VEVENT
UID:69e576fd74233
SUMMARY:Las Oficinas de proyectos como eje de competitividad  para las empr
 esas de desarrollo de software
DESCRIPTION:&nbsp\;El Capítulo PMI®&nbsp\;Antioquia te invita
 &nbsp\;
DTSTART:20230412T233000Z
DTEND:20230413T003000Z
DTSTAMP:20230325T001037Z
ORGANIZER;CN=PMI Antioquia Chapter:MAILTO:contacto@pmiantioquia.org
END:VEVENT
END:VCALENDAR