BEGIN:VCALENDAR
VERSION:2.0
PRODID:Events Booking
BEGIN:VEVENT
UID:69e92657a062e
SUMMARY:Liderando adopción digital desde la nube y la tierra 
DESCRIPTION:
DTSTART:20220727T233000Z
DTEND:20220728T003000Z
DTSTAMP:20260422T194943Z
ORGANIZER;CN=PMI Antioquia Chapter:MAILTO:contacto@pmiantioquia.org
END:VEVENT
END:VCALENDAR