BEGIN:VCALENDAR
VERSION:2.0
PRODID:Events Booking
BEGIN:VEVENT
UID:69e911447bbfc
SUMMARY:“Liderando Entre la Incertidumbre” El arte de incorporar la ges
 tión de riesgos para ir del Optimismo Inocente al Realismo Mágico
DESCRIPTION:
DTSTART:20220706T233000Z
DTEND:20220707T003000Z
DTSTAMP:20260422T181948Z
ORGANIZER;CN=PMI Antioquia Chapter:MAILTO:contacto@pmiantioquia.org
END:VEVENT
END:VCALENDAR