BEGIN:VCALENDAR
VERSION:2.0
PRODID:Events Booking
BEGIN:VEVENT
UID:69ea71e0ea304
SUMMARY:Liderazgo Resiliente: Un nuevo paradigma en el perfil de un líder
DESCRIPTION:&nbsp\;
 &nbsp\;&nbsp\;
 El Capítulo PMI Antioquia invita a 
 la comunidad a la conferencia \"Liderazgo Resilente: Un nuevo paradigma en
  el perfil de un líder\"
 
 Descripción conferencia:
 Una forma de lo
 grar que el equipo del proyecto potencialice sus habilidades es por medio 
 de ayudarlos a ser mejores personas\, una de ellas es enfocarse en superar
  la adversidad y fomentar su bienestar. Esto es posible a través del mind
 ulness y PNL.
 &nbsp\;
 Objetivos de aprendizaje:
 - El Mindfulness una
  práctica milenaria que ayuda a vivir el presente
 - El Saber cómo supe
 rar las adversidades 
 - PNL como una herramienta para lograr cambiar há
 bitos 
 Conferencista: 
 JUAN GABRIEL CONTRERAS SANSORES
 
 Administra
 dor de Proyectos Certificado por el PMI por más de 10 años. Inicié en e
 l año 1998 con la filosofía de trabajar por proyectos en una institució
 n bancaria con un sistema canadiense\, pasé luego como instructor en la u
 niversidad Anáhuac evangelizando en el tema de gestionar los proyectos co
 n las mejores prácticas\, y he participado como PM en varios proyectos co
 mo consultor independiente. Actualmente soy consultor externo de la PMO de
  Bepensa\, un corporativo que embotella CocaCola en el sureste de México 
 con la cadena de valor más completa con 5 divisiones (Bepensa Bebidas Mé
 xico y República Dominicana\, Bepensa Industrial\, Bepensa Automotriz (KI
 A y VW)\, Bepensa Spritis (Caribe Cooler Latinoamérica) y Financiera Bepe
 nsa. Por otro lado\, experto en Mindfulness\, bienestar y habilidades suav
 es. Me encanta salir a montar bici y viajar por mi bello México.
 &nbsp\
 ;
 &nbsp\;
DTSTART:20210518T230000Z
DTEND:20210519T000000Z
DTSTAMP:20260423T192416Z
ORGANIZER;CN=PMI Antioquia Chapter:MAILTO:contacto@pmiantioquia.org
END:VEVENT
END:VCALENDAR