BEGIN:VCALENDAR
VERSION:2.0
PRODID:Events Booking
BEGIN:VEVENT
UID:69e5c4b152d29
SUMMARY:MAPA DE RUTA PARA REALIZAR UNA TRANSFORMACIÓN AGIL ORGANIZACIONAL
DESCRIPTION:
DTSTART:20230111T233000Z
DTEND:20230112T003000Z
DTSTAMP:20260420T061617Z
ORGANIZER;CN=PMI Antioquia Chapter:MAILTO:contacto@pmiantioquia.org
END:VEVENT
END:VCALENDAR