BEGIN:VCALENDAR
VERSION:2.0
PRODID:Events Booking
BEGIN:VEVENT
UID:69e9598d5c998
SUMMARY:Mejora el desempeño de tus proyectos a través del enfoque efectiv
 o
DESCRIPTION:
DTSTART:20220427T233000Z
DTEND:20220428T003000Z
DTSTAMP:20260422T232813Z
ORGANIZER;CN=PMI Antioquia Chapter:MAILTO:contacto@pmiantioquia.org
END:VEVENT
END:VCALENDAR