BEGIN:VCALENDAR
VERSION:2.0
PRODID:Events Booking
BEGIN:VEVENT
UID:69e92b5773c71
SUMMARY:TALLER DE MÉTRICAS ÁGILES
DESCRIPTION:&nbsp\;El capítulo PMI Antioquia te invita a participar del
 
 
 ¿Por qué tomar el taller?
 
 Si lideras un proceso de transformaci
 ón o eres partes de uno y sientes que no se están obteniendo los resulta
 dos esperados y no sabes ¿por qué?
 ¿Estás gestionando a las personas
  antes que el flujo?
 ¿Estás ejecutando un proyecto\, pero no estás mi
 diendo el impacto de este en los resultados de negocio?
 
 Si tu respues
 ta es afirmativa a las anteriores preguntas
 ¡ESTE TALLER ES PARA TI!
 
 &nbsp\;
DTSTART:20220607T000000Z
DTEND:20220618T010000Z
DTSTAMP:20260422T201103Z
ORGANIZER;CN=PMI Antioquia Chapter:MAILTO:contacto@pmiantioquia.org
END:VEVENT
END:VCALENDAR