BEGIN:VCALENDAR
VERSION:2.0
PRODID:Events Booking
BEGIN:VEVENT
UID:69ea955d8c848
SUMMARY:MicroTaller: Cómo desarrollar los principios de pensamiento ágil 
 en los equipos 
DESCRIPTION:Para todos los interesados en aprender sobre Disciplinas Ágile
 s
DTSTART:20210422T233000Z
DTEND:20210423T013000Z
DTSTAMP:20260423T215541Z
ORGANIZER;CN=PMI Antioquia Chapter:MAILTO:contacto@pmiantioquia.org
END:VEVENT
END:VCALENDAR