BEGIN:VCALENDAR
VERSION:2.0
PRODID:Events Booking
BEGIN:VEVENT
UID:69e9731f7a737
SUMMARY:Mide lo que importa
DESCRIPTION:&nbsp\;
 El Capítulo PMI Antioquia los invita al evento \"Mid
 e lo que importa: La importancia de las métricas en el camino hacia la ag
 ilidad organizacional\" 
 
DTSTART:20220330T233000Z
DTEND:20220331T003000Z
DTSTAMP:20260423T011719Z
ORGANIZER;CN=PMI Antioquia Chapter:MAILTO:contacto@pmiantioquia.org
END:VEVENT
END:VCALENDAR