BEGIN:VCALENDAR
VERSION:2.0
PRODID:Events Booking
BEGIN:VEVENT
UID:69ebeceed25d2
SUMMARY:Neuromanagement Aplicado a los Proyectos
DESCRIPTION:✔&nbsp\;Charla Online
 ?&nbsp\;“Neuromanagement&nbsp\;Apli
 cado a los&nbsp\;#Proyectos&nbsp\;“
 ?&nbsp\;Speaker: Jaime García
 ?
 &nbsp\;Fecha: Lunes 6 abril
 ⌚18:00 a 19:00
 ?Regístrate:&nbsp\;https
 ://jaimegarcia_neuromanagement.eventbrite.com/
 ?Online
 ?&nbsp\;PDU: 1 
 PDU
DTSTART:20200406T230000Z
DTEND:20200407T003000Z
DTSTAMP:20260424T222134Z
ORGANIZER;CN=PMI Antioquia Chapter:MAILTO:contacto@pmiantioquia.org
END:VEVENT
END:VCALENDAR