BEGIN:VCALENDAR
VERSION:2.0
PRODID:Events Booking
BEGIN:VEVENT
UID:69ebb5a2790af
SUMMARY:OPEN SPACE: Lecciones Aprendidas
DESCRIPTION:Tu\, atrévete a exponer tus lecciones aprendidas de tus proyec
 tos\, pues solo asi Creamos Juntos las mejores prácticas!
 &nbsp\;
 Un 
 espacio para vibrar en APRENDIZAJE!
DTSTART:20200617T233000Z
DTEND:20200618T013000Z
DTSTAMP:20260424T182538Z
ORGANIZER;CN=PMI Antioquia Chapter:MAILTO:contacto@pmiantioquia.org
END:VEVENT
END:VCALENDAR