BEGIN:VCALENDAR
VERSION:2.0
PRODID:Events Booking
BEGIN:VEVENT
UID:69e94628d691e
SUMMARY:OPENHOUSE Convocatorias Voluntariados
DESCRIPTION:QUIERO COMPARTIR MIS PREFERENCIAS SI&nbsp\;
 ESTOY INTERESADO 
 EN SER VOLUNTARIO
 Nos mueve la pasión por nuestra profesión y poner nu
 estros talentos y experiencia al servicio de nuestra comunidad\, si te sie
 ntes identificado te invitamos a este OPENHOUSE para que conozcas los role
 s e iniciativas de las cuales puedes hacer&nbsp\;parte\, dejar huella\, ex
 perimentar en equipo y fortalecer tus habilidades.
 
DTSTART:20220505T230000Z
DTEND:20220506T000000Z
DTSTAMP:20260422T220528Z
ORGANIZER;CN=PMI Antioquia Chapter:MAILTO:contacto@pmiantioquia.org
END:VEVENT
END:VCALENDAR