BEGIN:VCALENDAR
VERSION:2.0
PRODID:Events Booking
BEGIN:VEVENT
UID:69ea5674b383d
SUMMARY:PMBOK 7ma Edición
DESCRIPTION:&nbsp\;
 &nbsp\;&nbsp\;
 El Capítulo PMI Antioquia invita a 
 la comunidad a la conferencia \"PMBOK 7ma Edición\, ¿qué ha cambiado?\"
DTSTART:20210623T230000Z
DTEND:20210624T000000Z
DTSTAMP:20260423T172716Z
ORGANIZER;CN=PMI Antioquia Chapter:MAILTO:contacto@pmiantioquia.org
END:VEVENT
END:VCALENDAR