BEGIN:VCALENDAR
VERSION:2.0
PRODID:Events Booking
BEGIN:VEVENT
UID:69e943ed56465
SUMMARY:PMI en Portuñol: El Camino/A Jornada Ágil
DESCRIPTION:&nbsp\;
 El próximo 26 de mayo\, no te pierdas la nueva edici
 ón de PMI in Portuñol\, un evento virtual en español y portugués en el
  que hablaremos sobre el camino de certificaciones ágiles de PMI y cómo 
 este te puede llevar hacia el dominio de agile.
 &nbsp\;
 
DTSTART:20220526T220000Z
DTEND:20220526T233000Z
DTSTAMP:20260422T215557Z
ORGANIZER;CN=PMI Antioquia Chapter:MAILTO:contacto@pmiantioquia.org
END:VEVENT
END:VCALENDAR