BEGIN:VCALENDAR
VERSION:2.0
PRODID:Events Booking
BEGIN:VEVENT
UID:69e8b92d962f5
SUMMARY:PMO´s\, Portafolios y gestión de valor
DESCRIPTION:
DTSTART:20221019T233000Z
DTEND:20221020T003000Z
DTSTAMP:20260422T120357Z
ORGANIZER;CN=PMI Antioquia Chapter:MAILTO:contacto@pmiantioquia.org
END:VEVENT
END:VCALENDAR