BEGIN:VCALENDAR
VERSION:2.0
PRODID:Events Booking
BEGIN:VEVENT
UID:69e593ea6088e
SUMMARY:PMOS en Antioquia – Caracterización
DESCRIPTION:&nbsp\;Organizan PMI Antioquia y la comunidad PMO Antioquia
 P
 MOS en Antioquia – Caracterización
 &nbsp\;
 
 &nbsp\;
DTSTART:20230315T233000Z
DTEND:20230316T003000Z
DTSTAMP:20260420T024810Z
ORGANIZER;CN=PMI Antioquia Chapter:MAILTO:contacto@pmiantioquia.org
END:VEVENT
END:VCALENDAR