BEGIN:VCALENDAR
VERSION:2.0
PRODID:Events Booking
BEGIN:VEVENT
UID:69e95b64844b2
SUMMARY:¿Por qué lidero cómo lidero?
DESCRIPTION:
DTSTART:20220420T233000Z
DTEND:20220421T003000Z
DTSTAMP:20260422T233604Z
ORGANIZER;CN=PMI Antioquia Chapter:MAILTO:contacto@pmiantioquia.org
END:VEVENT
END:VCALENDAR