BEGIN:VCALENDAR
VERSION:2.0
PRODID:Events Booking
BEGIN:VEVENT
UID:69eb975cb7ebc
SUMMARY:Preguntas y Respuestas Poderosas para entender Disciplined Agile de
  PMI
DESCRIPTION:-Miguel García
 -Entendimiento\, para quién\, como estudiarl
 o\, ruta de certificación
 &nbsp\;
 **SOLO MIEMBROS
DTSTART:20200730T230000Z
DTEND:20200731T003000Z
DTSTAMP:20260424T161628Z
ORGANIZER;CN=PMI Antioquia Chapter:MAILTO:contacto@pmiantioquia.org
END:VEVENT
END:VCALENDAR