BEGIN:VCALENDAR
VERSION:2.0
PRODID:Events Booking
BEGIN:VEVENT
UID:69e9f431b0d2c
SUMMARY:Presentación Cronograma de Elecciones Junta 2022 - 224
DESCRIPTION:&nbsp\;
 El capítulo PMI Antioquia presenta el cronograma de 
 elecciones para la nueva Junta Directiva 2022 - 2024&nbsp\;
 
DTSTART:20211124T050000Z
DTEND:20220120T050000Z
DTSTAMP:20260423T102801Z
ORGANIZER;CN=PMI Antioquia Chapter:MAILTO:contacto@pmiantioquia.org
END:VEVENT
END:VCALENDAR