BEGIN:VCALENDAR
VERSION:2.0
PRODID:Events Booking
BEGIN:VEVENT
UID:69e9d8dbe84d3
SUMMARY:Solución de dudas: Proceso de Elecciones
DESCRIPTION:El PMI Capítulo Antioquia invita a sus miembros a participar d
 el evento:
 &nbsp\;
 
DTSTART:20211111T233000Z
DTEND:20211112T013000Z
DTSTAMP:20260423T083123Z
ORGANIZER;CN=PMI Antioquia Chapter:MAILTO:contacto@pmiantioquia.org
END:VEVENT
END:VCALENDAR