BEGIN:VCALENDAR
VERSION:2.0
PRODID:Events Booking
BEGIN:VEVENT
UID:69e9f01dc70c7
SUMMARY:Presentación del proceso de elecciones
DESCRIPTION:&nbsp\;
 El PMI capítulo Antioquia los invita a la presentaci
 ón del proceso de elecciones de la Junta Directiva 2022 - 2024
 &nbsp\;
 
 
DTSTART:20211028T233000Z
DTEND:20211029T003000Z
DTSTAMP:20260423T101037Z
ORGANIZER;CN=PMI Antioquia Chapter:MAILTO:contacto@pmiantioquia.org
END:VEVENT
END:VCALENDAR